BEGIN:VCALENDAR
PRODID:-//AT Content Types//AT Event//EN
VERSION:2.0
METHOD:PUBLISH
BEGIN:VEVENT
DTSTAMP:20260421T125803Z
CREATED:20080825T234006Z
UID:ATEvent-cafbb78c9709e51fd4646a57e7c2e42b
LAST-MODIFIED:20080825T235029Z
SUMMARY:Monthly informal get together for Community groups and agencies
DTSTART:20080829T030000Z
DTEND:20080829T044000Z
DESCRIPTION:As normal the last Friday of the month we invite agencies 
 and community groups reps to come together for an informal lunch time 
 get together. We are meeting at the Norfolk Hotel in Redfern. It is a 
 great chance to take time out of our busy schedules and catch up with 
 each other\, sharing news and information in. You buy your own refresh
 ments and lunch and can stay a short as long as time will allow you.
LOCATION:Norfolk Hotel in Redfern
CATEGORIES:Meeting
CLASS:PUBLIC
END:VEVENT
END:VCALENDAR
