BEGIN:VCALENDAR
PRODID:-//AT Content Types//AT Event//EN
VERSION:1.0
BEGIN:VEVENT
DTSTART:20100514T040000Z
DTEND:20100514T060000Z
DCREATED:20100410T081516Z
UID:ATEvent-17bec31319abb93e8f524918257be9bc
SEQUENCE:0
LAST-MODIFIED:20100410T081556Z
SUMMARY:Waterloo Community Forum
DESCRIPTION:The local member and premier hosts this meeting with gover
 nment and non-government agencies and residents. It's a great opportun
 ity for you to raise any concerns about your local area and find out a
 bout the various projects and developments that are happening.
LOCATION:Waterloo Neighbourhood Centre\, near the IGA
PRIORITY:3
TRANSP:0
END:VEVENT
END:VCALENDAR
