BEGIN:VCALENDAR
PRODID:-//AT Content Types//AT Event//EN
VERSION:1.0
BEGIN:VEVENT
DTSTART:20100528T030000Z
DTEND:20100528T065000Z
DCREATED:20100318T055007Z
UID:ATEvent-5a3815ba769f917c07f9635fd25fe891
SEQUENCE:0
LAST-MODIFIED:20100318T055017Z
SUMMARY:Monthly Informal Gathering
DESCRIPTION:As usual\, on the last Friday of the month\, we invite age
 ncies and community groups reps and volunteers to come together for an
  informal lunch time ‘get together’.  We meet at the Norfolk Hotel
  – Cleveland Street (Beer Garden).  It is a great chance to take tim
 e out of our busy schedules and catch up with each other\, sharing new
 s\, and information informally. \nYou buy your own refreshments and lu
 nch and can stay a short or as long as time will allow.
LOCATION:Norfolk Hotel – Cleveland Street (Beer Garden)
PRIORITY:3
TRANSP:0
END:VEVENT
END:VCALENDAR
