BEGIN:VCALENDAR
PRODID:-//AT Content Types//AT Event//EN
VERSION:2.0
METHOD:PUBLISH
BEGIN:VEVENT
DTSTAMP:20260420T233233Z
CREATED:20090407T044359Z
UID:ATEvent-1e2da58ba15698a649f1d33fc2c2058b
LAST-MODIFIED:20090407T050906Z
SUMMARY:Media Training Workshop
DTSTART:20090507T130000Z
DTEND:20090507T210000Z
DESCRIPTION:Communicate more effectively with the media and help get y
 our message across\nThe Nature Conservation Council of NSW is presenti
 ng a one-day media training workshop for community groups and public s
 ector workers who want to improve their capacity to promote local issu
 es and reach a wider audience\n\nParticipants will learn how to feel m
 ore comfortable with the media and effectively get their message heard
  through radio\, TV and print.\nCost: $175\, $110 NGO\, $75 Nature Con
 servation Council members
LOCATION:Sydney Mechanics’ School of Arts 280 Pitt Street
CATEGORIES:Seminar
CONTACT:Jane\, 0402 757 342.\, jgarcia@nccnsw.org.au
CLASS:PUBLIC
END:VEVENT
END:VCALENDAR
