BEGIN:VCALENDAR
PRODID:-//AT Content Types//AT Event//EN
VERSION:1.0
BEGIN:VEVENT
DTSTART:20100804T140000Z
DTEND:20100805T140000Z
DCREATED:20100729T033416Z
UID:ATEvent-85fb430efab29a98dda77dd1a7d629ec
SEQUENCE:0
LAST-MODIFIED:20100729T033425Z
SUMMARY:What is the future role of the NGO Human Services Sector?
DESCRIPTION:We’ve come a long way in 75 years but what issues still 
 need our attention? How will NSW become a fairer place to live? Days t
 o Go Fairness in NSW
LOCATION:Australian Technology Park
PRIORITY:3
TRANSP:0
END:VEVENT
END:VCALENDAR
