BEGIN:VCALENDAR
PRODID:-//AT Content Types//AT Event//EN
VERSION:2.0
METHOD:PUBLISH
BEGIN:VEVENT
DTSTAMP:20260421T144800Z
CREATED:20100318T050008Z
UID:ATEvent-442a70c871af9d84486c7222e87cf32a
LAST-MODIFIED:20100318T050027Z
SUMMARY:Redfern Neighbourhood Advisory Board
DTSTART:20100713T000000Z
DTEND:20100713T020000Z
DESCRIPTION:The Neighbourhood Advisory Boards (NAB) are made up of ele
 cted tenant representatives\, and both Government and Non-Government a
 gencies\, who work together to discuss and address issues and concerns
  important to tenants on the Public Housing Estates. The NABs were set
  up so that tenants could be involved in making decisions and discussi
 ng issues and concerns that affect those who live on the estates. Agen
 cies\, who provide services in the area\, are also involved in working
  with the community.
LOCATION:Our Place Community Room\, Poets Corner\, Morehead Street\, Redfern
CATEGORIES:Meeting
CONTACT:Surry Hills Housing NSW Office Team leader\, 1300 468 746
CLASS:PUBLIC
END:VEVENT
END:VCALENDAR
