BEGIN:VCALENDAR
PRODID:-//AT Content Types//AT Event//EN
VERSION:2.0
METHOD:PUBLISH
BEGIN:VEVENT
DTSTAMP:20260423T140823Z
CREATED:20090527T010425Z
UID:ATEvent-98022be09aee492dff7e168cffa665dc
LAST-MODIFIED:20090527T010803Z
SUMMARY:Redfern Neighbourhood Advisory Boards
DTSTART:20090714T140000Z
DTEND:20090714T160000Z
DESCRIPTION:The Neighbourhood Advisory Boards (NAB) are made up of ele
 cted tenant representatives\, and both Government and Non-Government a
 gencies who work together to discuss and address issues and concerns i
 mportant to tenants on the Public Housing Estates. \n\nThis year the R
 edfern NAB meetings have a themed program so that agencies can identif
 y the relevant meeting to attend\, based on their expertise. This mont
 h's meeting - Youth and Young People’s Services
LOCATION:Our place\, Community Room\, Morehead Street
CONTACT:Mike - 9698 9569 David - 9698 6558
CLASS:PUBLIC
END:VEVENT
END:VCALENDAR
