BEGIN:VCALENDAR
PRODID:-//AT Content Types//AT Event//EN
VERSION:2.0
METHOD:PUBLISH
BEGIN:VEVENT
DTSTAMP:20260421T114536Z
CREATED:20100729T033830Z
UID:ATEvent-d78a968bae08326609d697c8ddc29101
LAST-MODIFIED:20100729T033938Z
SUMMARY:Redfern Safety Audit Area forum follow up meeting
DTSTART:20100811T000000Z
DTEND:20100811T020000Z
DESCRIPTION:Over 50 Redfern residents joined staff from NSW Police\, t
 he City of Sydney\, the Factory Community Centre and Housing NSW to co
 nduct a safety audits in 7 precincts of the Redfern public housing are
 a over the last 8 weeks. The next step is an area forum at which the k
 ey findings and proposed action will be presented for comment by the c
 ommunity. We will also draw the prize for a $100 voucher for residents
  who took part in the audits.
LOCATION:Redfern Oval Community Room
CONTACT:Tuyen Duong\, Tuyen.Duong@housing.nsw.gov.au
CLASS:PUBLIC
END:VEVENT
END:VCALENDAR
