BEGIN:VCALENDAR
PRODID:-//AT Content Types//AT Event//EN
VERSION:2.0
METHOD:PUBLISH
BEGIN:VEVENT
DTSTAMP:20260422T205146Z
CREATED:20100318T042548Z
UID:ATEvent-6f60fba45e8c837d1087e7a3b483e815
LAST-MODIFIED:20100414T093032Z
SUMMARY:Redfern / Waterloo Chamber of Commerce
DTSTART:20100324T200000Z
DTEND:20100324T230000Z
DESCRIPTION:You are invited to HAVE YOUR SAY in the development of the
  RWCC Strategic Plan: \nRSVP:    Tuesday 23 March 2010 Mary Lynne Pidc
 ock on 0419 657 888 president@rwchamber.com.au \nThis facilitated cons
 ultation and development of the strategic plan is one of the projects 
 funded by City of Sydney Business Grant Scheme for 2009-2010 and the o
 utcome of our discussion will guide RWCC activities over the next thre
 e years. It will also be used support our future applications for Busi
 ness Grants. The participation of local businesses interested in a str
 ong local chamber is welcomed and is essential for the success of this
 
LOCATION:Park Café on Chalmers\, Redfern Park (Opposite 265 Chalmers Street\, Redfern)
CATEGORIES:Meeting
CONTACT:Mary Lynne Pidcock \, 0419 657 888\, president@rwchamber.com.au
CLASS:PUBLIC
END:VEVENT
END:VCALENDAR
