BEGIN:VCALENDAR
PRODID:-//AT Content Types//AT Event//EN
VERSION:1.0
BEGIN:VEVENT
DTSTART:20091004T140000Z
DTEND:20091004T160000Z
DCREATED:20090825T021603Z
UID:ATEvent-caa3706658dc078e66776d38c267b4f4
SEQUENCE:0
LAST-MODIFIED:20090825T021635Z
SUMMARY:THANKSGIVING FOR CREATION
DESCRIPTION:Thanks for all creatures great & small. Celebrate St Clare
  & St Francis of Assisi\nThe service of worship will include writings 
 & prayers by St Clare & St Francis of Assisi as well as a blessing of 
 animals. Yes\, bring your pets!
LOCATION:South Sydney Uniting Church (56a Raglan St\, Waterloo)
PRIORITY:3
TRANSP:0
END:VEVENT
END:VCALENDAR
