BEGIN:VCALENDAR
PRODID:-//AT Content Types//AT Event//EN
VERSION:1.0
BEGIN:VEVENT
DTSTART:20080923T070000Z
DTEND:20080923T080000Z
DCREATED:20080828T012548Z
UID:ATEvent-114262e2979a93dc79721aaad7aaeef9
SEQUENCE:0
LAST-MODIFIED:20080828T012641Z
SUMMARY:The Factory AGM
DESCRIPTION:All Welcome.\nThe meeting will be followed by light refres
 hments
LOCATION:67 Raglan St Waterloo
PRIORITY:3
TRANSP:0
END:VEVENT
END:VCALENDAR
