BEGIN:VCALENDAR
PRODID:-//AT Content Types//AT Event//EN
VERSION:2.0
METHOD:PUBLISH
BEGIN:VEVENT
DTSTAMP:20260421T145651Z
CREATED:20100318T052515Z
UID:ATEvent-2503026802262e60e6640c6916308114
LAST-MODIFIED:20100318T052529Z
SUMMARY:Waterloo NABs – Learning\, Employment\, Enterprise Action Group
DTSTART:20100324T223000Z
DTEND:20100325T010000Z
DESCRIPTION:The above action group is open to all agencies and residen
 ts working on projects tackling the above issues. The next meeting wil
 l be focusing on forthcoming landscaping projects at PCYC and Cook Com
 munity Garden\, and other related projects planned for 2010.
LOCATION:Factory Community Centre\, Raglan Street\, Waterloo
CONTACT:Mike Shreenan\, 9698 9569
CLASS:PUBLIC
END:VEVENT
END:VCALENDAR
