BEGIN:VCALENDAR
PRODID:-//AT Content Types//AT Event//EN
VERSION:2.0
METHOD:PUBLISH
BEGIN:VEVENT
DTSTAMP:20260424T123714Z
CREATED:20180202T044313Z
UID:ATEvent-8c24684b669e47dfb503570bae36def1
LAST-MODIFIED:20180202T044343Z
SUMMARY:Waterloo Metro Heritage Viewing - 10 Feb 2018
DTSTART:20180210T030000Z
DTEND:20180210T050000Z
DESCRIPTION:A heritage viewing of the Metro Waterloo site is being hel
 d on Saturday 10 February between 2pm and 4pm.  Their heritage consult
 ant will be present to describe the finds and answer any questions. In
 terested parties need to RSVP to info@sydneymetro2.com.au as spaces ar
 e limited.
LOCATION:Waterloo Metro Site Waterloo
CATEGORIES:Exhibition, Heritage
CONTACT:info@sydneymetro2.com.au
CLASS:PUBLIC
END:VEVENT
END:VCALENDAR
