BEGIN:VCALENDAR
PRODID:-//AT Content Types//AT Event//EN
VERSION:2.0
METHOD:PUBLISH
BEGIN:VEVENT
DTSTAMP:20260420T081039Z
CREATED:20180519T052611Z
UID:ATEvent-7891c95c25fa4387ae6be237736f8816
LAST-MODIFIED:20180611T052854Z
SUMMARY:Metro Quarter Draft Master Plan Information Session - Sat 2nd June 11am-2pm Redfern Town Hall
DTSTART:20180602T010000Z
DTEND:20180602T040000Z
DESCRIPTION:This is an opportunity to comment on the proposed master p
 lan for the Waterloo Metro Quarter before it is finalised and submitte
 d for formal exhibition. The Metro Quarter will be integrated with the
  new Waterloo Sydney Metro Station and will encompass a new Metro Stat
 ion and over station development\, including new homes (including soci
 al and affordable housing)\, shops\, community health services / commu
 nity services and a new public / community plaza (concept only image) 
 with an adjoining community building. The Metro Quarter Precinct is bo
 unded by Botany Road\, Cope Street\, Raglan and Wellington Street. The
  Metro Quarter will be delivered ahead of the wider Waterloo Estate re
 development and aims to be completed by 2022 before the trains are exp
 ected in 2024.
LOCATION:Redfern Town Hall 73 Pitt Street Redfern
CONTACT:UrbanGrowth NSW community engagement team\, 1800 756 953\, info@ugdc.nsw.gov.au
URL:http://www.ugdc.nsw.gov.au/metroquarter
CLASS:PUBLIC
END:VEVENT
END:VCALENDAR
