BEGIN:VCALENDAR
PRODID:-//AT Content Types//AT Event//EN
VERSION:2.0
METHOD:PUBLISH
BEGIN:VEVENT
DTSTAMP:20260420T184717Z
CREATED:20110316T040930Z
UID:ATEvent-72819ac54f1501cf67f480d10010050e
LAST-MODIFIED:20110323T003625Z
SUMMARY:BEP2 Social Housing Thank You BBQ - Waterloo - 29 March 2011 - 12pm-2.30pm
DTSTART:20110329T160000Z
DTEND:20110329T183000Z
DESCRIPTION:A barbeque to thank social housing residents for their inp
 ut during the draft BEP 2 exhibition period will be held on Monday\, 2
 1 March at Poet’s Corner Redfern
LOCATION:Waterloo Green
CATEGORIES:Community BBQ
CONTACT:RWA\, 9202 9100.\, redfernwaterloo@rwa.nsw.gov.au
CLASS:PUBLIC
END:VEVENT
END:VCALENDAR
