BEGIN:VCALENDAR
PRODID:-//AT Content Types//AT Event//EN
VERSION:2.0
METHOD:PUBLISH
BEGIN:VEVENT
DTSTAMP:20260426T044139Z
CREATED:20170724T095551Z
UID:ATEvent-91b7d18c8cc24833960bc1c41beaf406
LAST-MODIFIED:20170724T095652Z
SUMMARY:Eveleigh Industrial Heritage & Social History - Is it “history” or worth preserving for the future? - REDWatch 3 August 2017
DTSTART:20170803T080000Z
DTEND:20170803T100000Z
DESCRIPTION:REDWatch invites all to come and discuss the Eveleigh Rali
 way Workshops history\, its relevance today\, its preservation and int
 erpretation for the future.
LOCATION:The Factory Community Centre\, 67 Raglan Street\, Waterloo
CONTACT:Geoffrey Turnbull\, (02) 8004 1490\, mail@redwatch.org.au
CLASS:PUBLIC
END:VEVENT
END:VCALENDAR
