BEGIN:VCALENDAR
PRODID:-//AT Content Types//AT Event//EN
VERSION:2.0
METHOD:PUBLISH
BEGIN:VEVENT
DTSTAMP:20260424T124104Z
CREATED:20180501T114341Z
UID:ATEvent-a4d144ad9574475bacadb1f0ea008072
LAST-MODIFIED:20180519T053955Z
SUMMARY:REDWatch Roundtable on Human Services - Thursday 3rd May 6pm
DTSTART:20180503T080000Z
DTEND:20180503T100000Z
DESCRIPTION:REDWatch Roundtable on Human Services - Thursday 3rd May 6
 pm at the Factory Community Centre – this is an opportunity for loca
 l residents to raise their comments about what needs to change in the 
 human services system. A flyer to promote this event is attached.
LOCATION:Factory Community Centre\, 67 Raglan Street\, Waterloo
CONTACT:Geoff Turnbuill\, (02) 8004 1490\, mail@redwatch.org.au
CLASS:PUBLIC
END:VEVENT
END:VCALENDAR
