BEGIN:VCALENDAR
PRODID:-//AT Content Types//AT Event//EN
VERSION:1.0
BEGIN:VEVENT
DTSTART:20120314T220000Z
DTEND:20120315T000000Z
DCREATED:20120213T215414Z
UID:ATEvent-18d67da4fdfeeb51e16e9876c33188fe
SEQUENCE:0
LAST-MODIFIED:20120217T055719Z
SUMMARY:Public Hearing Reclassification of Council land for Pemulwuy Project - 14 Mar 2012
DESCRIPTION:Have Your Say - Public Hearing Reclassification of land 91
 -99 Eveleigh Street\, Redfern (known as Pemulwuy Park) and 119-121 Eve
 leigh Street\, Redfern (known as the Eveleigh Street Playground).
LOCATION:Redfern Town Hall\, 73 Pitt Street\, Redfern
PRIORITY:3
TRANSP:0
END:VEVENT
END:VCALENDAR
