BEGIN:VCALENDAR
PRODID:-//AT Content Types//AT Event//EN
VERSION:2.0
METHOD:PUBLISH
BEGIN:VEVENT
DTSTAMP:20260422T152312Z
CREATED:20111029T214611Z
UID:ATEvent-d58d2d7a44c4813a244a7f7498e6ca63
LAST-MODIFIED:20111101T040456Z
SUMMARY:HNSW Masterplanning Workshop for Waterloo - 24 Nov 9.30am
DTSTART:20111124T143000Z
DTEND:20111124T203000Z
DESCRIPTION:Each workshop will be a hands-on planning process\, in whi
 ch residents\, planners\, stakeholders\, landowners and others will co
 llaborate on ideas for the Preliminary Masterplan. HNSW Workshops will
  be held on Wednesday 23 November 2011 about Redfern and on Thursday 2
 4 November 2011 about Waterloo. For each suburb there will be a choice
  of two workshop times - from 9.30-3.30 or 6.00-8.30. All sessions wil
 l be held at Redfern Town Hall. Ring HNSW on 9268 3443 for more detail
 s.
LOCATION:Redfern Town Hall\, 73 Pitt Street\, Redfern
CONTACT:Martin Clark\, 9268 3443\, redfernwaterloo@facs.nsw.gov.au
CLASS:PUBLIC
END:VEVENT
END:VCALENDAR
