BEGIN:VCALENDAR
PRODID:-//AT Content Types//AT Event//EN
VERSION:2.0
METHOD:PUBLISH
BEGIN:VEVENT
DTSTAMP:20260421T121835Z
CREATED:20120118T111719Z
UID:ATEvent-d30b143b308707dece47cffbcade9638
LAST-MODIFIED:20120401T074728Z
SUMMARY:Redfern Community Design workshop - 21 March 9.30am or 6pm
DTSTART:20120321T133000Z
DTEND:20120321T220000Z
DESCRIPTION:Redfern Community Design workshop 	Souths on Chalmers (265
  Chalmers Street\, Redfern) Design workshop with the urban planners to
  contribute your ideas for the future of Redfern. Wed 21 March Day ses
 sion 9:30– 3 pm or Eve session 6pm– 8:30pm. Lunch or supper provid
 ed	Day session – English\; Russian\; Cantonese\; Mandarin. Evening s
 ession – English only
LOCATION:Souths on Chalmers (265 Chalmers Street\, Redfern)
CATEGORIES:Meeting
CONTACT:Martin Clark\, 9268 3443\, redfernwaterloo@facs.nsw.gov.au
CLASS:PUBLIC
END:VEVENT
END:VCALENDAR
