BEGIN:VCALENDAR
PRODID:-//AT Content Types//AT Event//EN
VERSION:2.0
METHOD:PUBLISH
BEGIN:VEVENT
DTSTAMP:20260422T104611Z
CREATED:20111017T083836Z
UID:ATEvent-6588d209bc27893756eac96e756e4135
LAST-MODIFIED:20111017T090014Z
SUMMARY:HNSW Streets & Open Spaces Walk and Talks
DTSTART:20111025T140000Z
DTEND:20111025T160000Z
DESCRIPTION:As part of HNSW Preliminary Masterplan community engagemen
 t in October 2011\, HNSW have arranged for Walk and Talk sessions for 
 residents to talk about local streets and open spaces.
LOCATION:Meet at Waterloo Neighbourhood Centre\, Waterloo or Our Place Community Room Redfern
CONTACT:Martin Clark\, 9268 3443\, redfernwaterloo@facs.nsw.gov.au
CLASS:PUBLIC
END:VEVENT
END:VCALENDAR
