BEGIN:VCALENDAR
PRODID:-//AT Content Types//AT Event//EN
VERSION:1.0
BEGIN:VEVENT
DTSTART:20120412T170000Z
DTEND:20120412T190000Z
DCREATED:20120321T075433Z
UID:ATEvent-47b5f2c10b18335c24f8795966d7312a
SEQUENCE:0
LAST-MODIFIED:20120321T080300Z
SUMMARY:Social Mix Forum
DESCRIPTION:Residents’ Voices is hosting a free resident forum on So
 cial Mix. This informal forum has been designed to allow residents and
  other community members to ask a panel of independent researchers que
 stions about social mix policies and approaches that are important to 
 residents. This forum is independent of Housing NSW and other governme
 nt agencies. Come along and ask important questions and receive inform
 ed answers.
LOCATION:South Sydney Community Aid\, Neighbourhood Centre\, 73 Garden St\, Alexandria NSW
PRIORITY:3
TRANSP:0
END:VEVENT
END:VCALENDAR
