BEGIN:VCALENDAR
PRODID:-//AT Content Types//AT Event//EN
VERSION:1.0
BEGIN:VEVENT
DTSTART:20151028T220000Z
DTEND:20151028T233000Z
DCREATED:20151016T052652Z
UID:ATEvent-59a4fc49b4844842b81e6d4311f3e0f1
SEQUENCE:0
LAST-MODIFIED:20151205T044631Z
SUMMARY:Community Consultation Meeting - Development of the Faculty of Arts and Social Sciences (FASS) Building Ross Street gateway to the Camperdown Campus
DESCRIPTION:The University of Sydney is planning a new home for the Fa
 culty of Arts and Social Sciences FASS with a building earmarked for t
 he Ross Street gateway to the Camperdown Campus.
LOCATION:G12 Services Building  22 Codrington Street\, Darlington
PRIORITY:3
TRANSP:0
END:VEVENT
END:VCALENDAR
